BEGIN:VCALENDAR
VERSION:2.0
PRODID:-//Comercio en Maceda - ECPv6.15.20//NONSGML v1.0//EN
CALSCALE:GREGORIAN
METHOD:PUBLISH
X-ORIGINAL-URL:https://comercioenmaceda.com
X-WR-CALDESC:Events for Comercio en Maceda
REFRESH-INTERVAL;VALUE=DURATION:PT1H
X-Robots-Tag:noindex
X-PUBLISHED-TTL:PT1H
BEGIN:VTIMEZONE
TZID:Europe/Helsinki
BEGIN:DAYLIGHT
TZOFFSETFROM:+0200
TZOFFSETTO:+0300
TZNAME:EEST
DTSTART:20230326T010000
END:DAYLIGHT
BEGIN:STANDARD
TZOFFSETFROM:+0300
TZOFFSETTO:+0200
TZNAME:EET
DTSTART:20231029T010000
END:STANDARD
BEGIN:DAYLIGHT
TZOFFSETFROM:+0200
TZOFFSETTO:+0300
TZNAME:EEST
DTSTART:20240331T010000
END:DAYLIGHT
BEGIN:STANDARD
TZOFFSETFROM:+0300
TZOFFSETTO:+0200
TZNAME:EET
DTSTART:20241027T010000
END:STANDARD
BEGIN:DAYLIGHT
TZOFFSETFROM:+0200
TZOFFSETTO:+0300
TZNAME:EEST
DTSTART:20250330T010000
END:DAYLIGHT
BEGIN:STANDARD
TZOFFSETFROM:+0300
TZOFFSETTO:+0200
TZNAME:EET
DTSTART:20251026T010000
END:STANDARD
BEGIN:DAYLIGHT
TZOFFSETFROM:+0200
TZOFFSETTO:+0300
TZNAME:EEST
DTSTART:20260329T010000
END:DAYLIGHT
BEGIN:STANDARD
TZOFFSETFROM:+0300
TZOFFSETTO:+0200
TZNAME:EET
DTSTART:20261025T010000
END:STANDARD
END:VTIMEZONE
BEGIN:VEVENT
DTSTART;VALUE=DATE:20241101
DTEND;VALUE=DATE:20250601
DTSTAMP:20260419T173134
CREATED:20241031T162805Z
LAST-MODIFIED:20241031T162805Z
UID:457-1730419200-1748735999@comercioenmaceda.com
SUMMARY:Bono Fisioterapia FisioMaceda
DESCRIPTION:Oferta de 5 sesións de Fisioterapia en Fisiomaceda por un importe de 120 euros. \n 
URL:https://comercioenmaceda.com/event/bono-fisioterapia-fisiomaceda/
LOCATION:Ourense
END:VEVENT
BEGIN:VEVENT
DTSTART;TZID=Europe/Helsinki:20250405T103000
DTEND;TZID=Europe/Helsinki:20250405T123000
DTSTAMP:20260419T173134
CREATED:20250318T162318Z
LAST-MODIFIED:20250318T183253Z
UID:1375-1743849000-1743856200@comercioenmaceda.com
SUMMARY:A Noite dos Cantos
DESCRIPTION:O sábado 5 de abril de 2025 ás 10:30 h na Biblioteca Pública de Maceda\, baixo o nome de “A Noite dos Cantos” terá lugar un Xogo de Rol. \nImpartido por “As Curuxas” academia e organizado polo Concello de Maceda. \nIdades recomendadas de 10 a 14 anos. Prazas limitadas \nAnótate chamando ao 988 46 33 74 ou na Biblioteca P.M.F Carballo de Maceda en horario de 17 a 20 h
URL:https://comercioenmaceda.com/event/a-noite-dos-cantos/
LOCATION:biblioteca de Maceda\, Rúa Vicente Del Bosque Nª 14\, Maceda\, Ourense\, 32700\, Spain
END:VEVENT
END:VCALENDAR