BEGIN:VCALENDAR
VERSION:2.0
PRODID:-//Comercio en Maceda - ECPv6.15.20//NONSGML v1.0//EN
CALSCALE:GREGORIAN
METHOD:PUBLISH
X-ORIGINAL-URL:https://comercioenmaceda.com
X-WR-CALDESC:Events for Comercio en Maceda
REFRESH-INTERVAL;VALUE=DURATION:PT1H
X-Robots-Tag:noindex
X-PUBLISHED-TTL:PT1H
BEGIN:VTIMEZONE
TZID:Europe/Helsinki
BEGIN:DAYLIGHT
TZOFFSETFROM:+0200
TZOFFSETTO:+0300
TZNAME:EEST
DTSTART:20230326T010000
END:DAYLIGHT
BEGIN:STANDARD
TZOFFSETFROM:+0300
TZOFFSETTO:+0200
TZNAME:EET
DTSTART:20231029T010000
END:STANDARD
BEGIN:DAYLIGHT
TZOFFSETFROM:+0200
TZOFFSETTO:+0300
TZNAME:EEST
DTSTART:20240331T010000
END:DAYLIGHT
BEGIN:STANDARD
TZOFFSETFROM:+0300
TZOFFSETTO:+0200
TZNAME:EET
DTSTART:20241027T010000
END:STANDARD
BEGIN:DAYLIGHT
TZOFFSETFROM:+0200
TZOFFSETTO:+0300
TZNAME:EEST
DTSTART:20250330T010000
END:DAYLIGHT
BEGIN:STANDARD
TZOFFSETFROM:+0300
TZOFFSETTO:+0200
TZNAME:EET
DTSTART:20251026T010000
END:STANDARD
BEGIN:DAYLIGHT
TZOFFSETFROM:+0200
TZOFFSETTO:+0300
TZNAME:EEST
DTSTART:20260329T010000
END:DAYLIGHT
BEGIN:STANDARD
TZOFFSETFROM:+0300
TZOFFSETTO:+0200
TZNAME:EET
DTSTART:20261025T010000
END:STANDARD
END:VTIMEZONE
BEGIN:VEVENT
DTSTART;VALUE=DATE:20241101
DTEND;VALUE=DATE:20250601
DTSTAMP:20260419T172410
CREATED:20241031T162805Z
LAST-MODIFIED:20241031T162805Z
UID:457-1730419200-1748735999@comercioenmaceda.com
SUMMARY:Bono Fisioterapia FisioMaceda
DESCRIPTION:Oferta de 5 sesións de Fisioterapia en Fisiomaceda por un importe de 120 euros. \n 
URL:https://comercioenmaceda.com/event/bono-fisioterapia-fisiomaceda/
LOCATION:Ourense
END:VEVENT
BEGIN:VEVENT
DTSTART;TZID=Europe/Helsinki:20250418T120000
DTEND;TZID=Europe/Helsinki:20250418T130000
DTSTAMP:20260419T172410
CREATED:20250413T205607Z
LAST-MODIFIED:20250413T205607Z
UID:1403-1744977600-1744981200@comercioenmaceda.com
SUMMARY:Vernes Santo
DESCRIPTION:A programación dos actos relixiosos para o Vernes Santo en Maceda- \nCelebración de Vernes Santo: “Vía Crucis” ás 12 h. na igrexa Nosa Señora das Neves de Maceda
URL:https://comercioenmaceda.com/event/vernes-santo/
LOCATION:igrexa Nosa Señora das Neves\, Praza das toldas\, Maceda\, Ourense\, 32700\, Spain
END:VEVENT
BEGIN:VEVENT
DTSTART;TZID=Europe/Helsinki:20250418T180000
DTEND;TZID=Europe/Helsinki:20250418T190000
DTSTAMP:20260419T172410
CREATED:20250413T205655Z
LAST-MODIFIED:20250413T205659Z
UID:1405-1744999200-1745002800@comercioenmaceda.com
SUMMARY:Vernes Santo
DESCRIPTION:A programación dos actos relixiosos para o Vernes Santo en Maceda- \nCelebración de Vernes Santo: “Morte de Xesús” ás 18 h. na igrexa Nosa Señora das Neves de Maceda
URL:https://comercioenmaceda.com/event/vernes-santo-2/
LOCATION:igrexa Nosa Señora das Neves\, Praza das toldas\, Maceda\, Ourense\, 32700\, Spain
END:VEVENT
BEGIN:VEVENT
DTSTART;TZID=Europe/Helsinki:20250418T200000
DTEND;TZID=Europe/Helsinki:20250418T223000
DTSTAMP:20260419T172410
CREATED:20250408T213956Z
LAST-MODIFIED:20250408T213956Z
UID:1389-1745006400-1745015400@comercioenmaceda.com
SUMMARY:VI Concurso de Tapas Maceda 2025
DESCRIPTION:Entre o día 16 e 20 de abril de 2025 en horario de 20 a 22:30h.\, celébrase en Maceda a VI edición do concurso de tapas organizado polo Concello de Maceda e pola Asociación de Comerciantes e Empresarios de Maceda\, coa finalidade de promover o movemento e a participación tanto de empresarios como de clientes asiduos aos establecementos de Maceda. \n  \nO prezo da tapa será de 3€ e participan: A Cervexería\, A Fenda\, A Tapa\, Bar A Sala\, Bar A Teixeira\, Bar Lúa\, Casa Rosa\, O Mioco\, Porta Sacra e Tapería Castillo.
URL:https://comercioenmaceda.com/event/vi-concurso-de-tapas-maceda-2025-3/
LOCATION:Ourense
END:VEVENT
BEGIN:VEVENT
DTSTART;TZID=Europe/Helsinki:20250418T220000
DTEND;TZID=Europe/Helsinki:20250418T230000
DTSTAMP:20260419T172410
CREATED:20250413T205753Z
LAST-MODIFIED:20250413T205753Z
UID:1407-1745013600-1745017200@comercioenmaceda.com
SUMMARY:Vernes Santo
DESCRIPTION:A programación dos actos relixiosos para o Vernes Santo en Maceda- \nCelebración de Vernes Santo: “Procesión dos Caladiños” ás 22 h. na igrexa Nosa Señora das Neves de Maceda
URL:https://comercioenmaceda.com/event/vernes-santo-3/
LOCATION:igrexa Nosa Señora das Neves\, Praza das toldas\, Maceda\, Ourense\, 32700\, Spain
END:VEVENT
END:VCALENDAR