BEGIN:VCALENDAR
VERSION:2.0
PRODID:-//Comercio en Maceda - ECPv6.15.20//NONSGML v1.0//EN
CALSCALE:GREGORIAN
METHOD:PUBLISH
X-WR-CALNAME:Comercio en Maceda
X-ORIGINAL-URL:https://comercioenmaceda.com
X-WR-CALDESC:Events for Comercio en Maceda
REFRESH-INTERVAL;VALUE=DURATION:PT1H
X-Robots-Tag:noindex
X-PUBLISHED-TTL:PT1H
BEGIN:VTIMEZONE
TZID:Europe/Helsinki
BEGIN:DAYLIGHT
TZOFFSETFROM:+0200
TZOFFSETTO:+0300
TZNAME:EEST
DTSTART:20250330T010000
END:DAYLIGHT
BEGIN:STANDARD
TZOFFSETFROM:+0300
TZOFFSETTO:+0200
TZNAME:EET
DTSTART:20251026T010000
END:STANDARD
BEGIN:DAYLIGHT
TZOFFSETFROM:+0200
TZOFFSETTO:+0300
TZNAME:EEST
DTSTART:20260329T010000
END:DAYLIGHT
BEGIN:STANDARD
TZOFFSETFROM:+0300
TZOFFSETTO:+0200
TZNAME:EET
DTSTART:20261025T010000
END:STANDARD
BEGIN:DAYLIGHT
TZOFFSETFROM:+0200
TZOFFSETTO:+0300
TZNAME:EEST
DTSTART:20270328T010000
END:DAYLIGHT
BEGIN:STANDARD
TZOFFSETFROM:+0300
TZOFFSETTO:+0200
TZNAME:EET
DTSTART:20271031T010000
END:STANDARD
END:VTIMEZONE
BEGIN:VEVENT
DTSTART;VALUE=DATE:20260407
DTEND;VALUE=DATE:20260427
DTSTAMP:20260422T014420
CREATED:20260409T104750Z
LAST-MODIFIED:20260409T104750Z
UID:2418-1775520000-1777247999@comercioenmaceda.com
SUMMARY:II Mercado de Troco de Libros
DESCRIPTION:Como participar? \nDo 7 ao 23 de abril\, trae á Biblioteca de Maceda os libros que xa non uses e recibe un vale por cada un. \nOs días 25 e 26\, na Praza Benigno Álvarez de Maceda\, poderás trocar eses vales por outros libros. \nE dalle unha nova vida aos libros¡ \nOrganiza: Biblioteca P. Municipal F. Carballo de Maceda
URL:https://comercioenmaceda.com/event/ii-mercado-de-troco-de-libros/
END:VEVENT
BEGIN:VEVENT
DTSTART;TZID=Europe/Helsinki:20260422T090000
DTEND;TZID=Europe/Helsinki:20260422T133000
DTSTAMP:20260422T014420
CREATED:20260409T114227Z
LAST-MODIFIED:20260409T114235Z
UID:2437-1776848400-1776864600@comercioenmaceda.com
SUMMARY:I.T.V Vehículos agrícolas
DESCRIPTION:Estará un equipo para realizar a Inspección Técnica de Vehículos agrícolas na explanada alto campo da feira de Maceda. \nHorario: \nLuns 20 de abril de 2026: de 9 a 13:30 h e 15:15 a 18:00 h \nMartes 21 de abril de 2026: 9:00 a 13:30 h e 15:15 a 18:00 h \nMércores 22 de abril de 2026: de 9 a 13:30 h \nSolicitar cita previa no Tf:  981 92 80 80 ou na web: https://www.sycitv.com
URL:https://comercioenmaceda.com/event/i-t-v-vehiculos-agricolas-3/
END:VEVENT
BEGIN:VEVENT
DTSTART;TZID=Europe/Helsinki:20260422T200000
DTEND;TZID=Europe/Helsinki:20260422T210000
DTSTAMP:20260422T014420
CREATED:20260417T174803Z
LAST-MODIFIED:20260417T174803Z
UID:2460-1776888000-1776891600@comercioenmaceda.com
SUMMARY:Impulsa as túas ventas
DESCRIPTION:Baixo o nome: “Impulsa tus ventas: difusión de ofertas comerciales vía Whatsapp y Telegram” organizado polo Concello de Maceda\, Ineco Ruraltic e a Asociación de Comerciantes de Maceda” terá lugar un taller dirixido ós comerciantes e empresarios de Maceda e Arredores\, profesionais autónomos independentes ou en sociedade con outros que teñan interese en difundir as súas ofertas comerciais. \nSerá o mércores 22 de abril de 2026 ás 20 h. no salón de plenos do Concello de Maceda. \nObxectivo: intentar impulsar as vendas de calquera actividade comercial de Maceda e arredores. \nInscricións en: comercioenmaceda@hotmail.com ou no tf: 988317110
URL:https://comercioenmaceda.com/event/impulsa-as-tuas-ventas/
END:VEVENT
END:VCALENDAR