BEGIN:VCALENDAR
VERSION:2.0
PRODID:-//Comercio en Maceda - ECPv6.15.20//NONSGML v1.0//EN
CALSCALE:GREGORIAN
METHOD:PUBLISH
X-ORIGINAL-URL:https://comercioenmaceda.com
X-WR-CALDESC:Events for Comercio en Maceda
REFRESH-INTERVAL;VALUE=DURATION:PT1H
X-Robots-Tag:noindex
X-PUBLISHED-TTL:PT1H
BEGIN:VTIMEZONE
TZID:Europe/Helsinki
BEGIN:DAYLIGHT
TZOFFSETFROM:+0200
TZOFFSETTO:+0300
TZNAME:EEST
DTSTART:20230326T010000
END:DAYLIGHT
BEGIN:STANDARD
TZOFFSETFROM:+0300
TZOFFSETTO:+0200
TZNAME:EET
DTSTART:20231029T010000
END:STANDARD
BEGIN:DAYLIGHT
TZOFFSETFROM:+0200
TZOFFSETTO:+0300
TZNAME:EEST
DTSTART:20240331T010000
END:DAYLIGHT
BEGIN:STANDARD
TZOFFSETFROM:+0300
TZOFFSETTO:+0200
TZNAME:EET
DTSTART:20241027T010000
END:STANDARD
BEGIN:DAYLIGHT
TZOFFSETFROM:+0200
TZOFFSETTO:+0300
TZNAME:EEST
DTSTART:20250330T010000
END:DAYLIGHT
BEGIN:STANDARD
TZOFFSETFROM:+0300
TZOFFSETTO:+0200
TZNAME:EET
DTSTART:20251026T010000
END:STANDARD
END:VTIMEZONE
BEGIN:VEVENT
DTSTART;TZID=Europe/Helsinki:20241107T163000
DTEND;TZID=Europe/Helsinki:20241107T180000
DTSTAMP:20260422T131914
CREATED:20241029T084357Z
LAST-MODIFIED:20241029T104820Z
UID:419-1730997000-1731002400@comercioenmaceda.com
SUMMARY:Xeramente
DESCRIPTION:Xuntanza nun espazo para a mocidade no que compartir inquedanzas\, ideas e proxectos. \nUn lugar onde falar dos temas que máis che interesan\, desde actualidade e redes sociais ata cultura\, arte e moito máis. \nVen coñecer a outros mozos e mozas coma ti e participa nun ambiente aberto\, dinámico e creativo.
URL:https://comercioenmaceda.com/event/xeramente/
LOCATION:biblioteca de Maceda\, Rúa Vicente Del Bosque Nª 14\, Maceda\, Ourense\, 32700\, Spain
END:VEVENT
END:VCALENDAR