BEGIN:VCALENDAR
VERSION:2.0
PRODID:-//Comercio en Maceda - ECPv6.15.20//NONSGML v1.0//EN
CALSCALE:GREGORIAN
METHOD:PUBLISH
X-ORIGINAL-URL:https://comercioenmaceda.com
X-WR-CALDESC:Events for Comercio en Maceda
REFRESH-INTERVAL;VALUE=DURATION:PT1H
X-Robots-Tag:noindex
X-PUBLISHED-TTL:PT1H
BEGIN:VTIMEZONE
TZID:Europe/Helsinki
BEGIN:DAYLIGHT
TZOFFSETFROM:+0200
TZOFFSETTO:+0300
TZNAME:EEST
DTSTART:20230326T010000
END:DAYLIGHT
BEGIN:STANDARD
TZOFFSETFROM:+0300
TZOFFSETTO:+0200
TZNAME:EET
DTSTART:20231029T010000
END:STANDARD
BEGIN:DAYLIGHT
TZOFFSETFROM:+0200
TZOFFSETTO:+0300
TZNAME:EEST
DTSTART:20240331T010000
END:DAYLIGHT
BEGIN:STANDARD
TZOFFSETFROM:+0300
TZOFFSETTO:+0200
TZNAME:EET
DTSTART:20241027T010000
END:STANDARD
BEGIN:DAYLIGHT
TZOFFSETFROM:+0200
TZOFFSETTO:+0300
TZNAME:EEST
DTSTART:20250330T010000
END:DAYLIGHT
BEGIN:STANDARD
TZOFFSETFROM:+0300
TZOFFSETTO:+0200
TZNAME:EET
DTSTART:20251026T010000
END:STANDARD
BEGIN:DAYLIGHT
TZOFFSETFROM:+0200
TZOFFSETTO:+0300
TZNAME:EEST
DTSTART:20260329T010000
END:DAYLIGHT
BEGIN:STANDARD
TZOFFSETFROM:+0300
TZOFFSETTO:+0200
TZNAME:EET
DTSTART:20261025T010000
END:STANDARD
END:VTIMEZONE
BEGIN:VEVENT
DTSTART;VALUE=DATE:20241101
DTEND;VALUE=DATE:20250601
DTSTAMP:20260419T155705
CREATED:20241031T162805Z
LAST-MODIFIED:20241031T162805Z
UID:457-1730419200-1748735999@comercioenmaceda.com
SUMMARY:Bono Fisioterapia FisioMaceda
DESCRIPTION:Oferta de 5 sesións de Fisioterapia en Fisiomaceda por un importe de 120 euros. \n 
URL:https://comercioenmaceda.com/event/bono-fisioterapia-fisiomaceda/
LOCATION:Ourense
END:VEVENT
BEGIN:VEVENT
DTSTART;TZID=Europe/Helsinki:20250404T080000
DTEND;TZID=Europe/Helsinki:20250404T153000
DTSTAMP:20260419T155705
CREATED:20250312T205657Z
LAST-MODIFIED:20250312T205657Z
UID:1344-1743753600-1743780600@comercioenmaceda.com
SUMMARY:Feira en Maceda
DESCRIPTION:Feira que se celebra os días 4 e 20 de cada mes (cando o día 20 é domingo vai ao sábado 19)\, en todo o comercio de Maceda e venda ambulante sobre todo na zoa do Toural. \nVenda de produtos destacados que podemos atopar nela\, ademais os postos do tradicional polbo a feira.
URL:https://comercioenmaceda.com/event/feira-en-maceda-10/
LOCATION:Ourense
END:VEVENT
BEGIN:VEVENT
DTSTART;TZID=Europe/Helsinki:20250405T103000
DTEND;TZID=Europe/Helsinki:20250405T123000
DTSTAMP:20260419T155705
CREATED:20250318T162318Z
LAST-MODIFIED:20250318T183253Z
UID:1375-1743849000-1743856200@comercioenmaceda.com
SUMMARY:A Noite dos Cantos
DESCRIPTION:O sábado 5 de abril de 2025 ás 10:30 h na Biblioteca Pública de Maceda\, baixo o nome de “A Noite dos Cantos” terá lugar un Xogo de Rol. \nImpartido por “As Curuxas” academia e organizado polo Concello de Maceda. \nIdades recomendadas de 10 a 14 anos. Prazas limitadas \nAnótate chamando ao 988 46 33 74 ou na Biblioteca P.M.F Carballo de Maceda en horario de 17 a 20 h
URL:https://comercioenmaceda.com/event/a-noite-dos-cantos/
LOCATION:biblioteca de Maceda\, Rúa Vicente Del Bosque Nª 14\, Maceda\, Ourense\, 32700\, Spain
END:VEVENT
BEGIN:VEVENT
DTSTART;TZID=Europe/Helsinki:20250416T200000
DTEND;TZID=Europe/Helsinki:20250416T223000
DTSTAMP:20260419T155705
CREATED:20250408T213627Z
LAST-MODIFIED:20250408T213627Z
UID:1385-1744833600-1744842600@comercioenmaceda.com
SUMMARY:VI Concurso de Tapas Maceda 2025
DESCRIPTION:Entre o día 16 e 20 de abril de 2025 en horario de 20 a 22:30h.\, celébrase en Maceda a VI edición do concurso de tapas organizado polo Concello de Maceda e pola Asociación de Comerciantes e Empresarios de Maceda\, coa finalidade de promover o movemento e a participación tanto de empresarios como de clientes asiduos aos establecementos de Maceda. \n  \nO prezo da tapa será de 3€ e participan: A Cervexería\, A Fenda\, A Tapa\, Bar A Sala\, Bar A Teixeira\, Bar Lúa\, Casa Rosa\, O Mioco\, Porta Sacra e Tapería Castillo. \n 
URL:https://comercioenmaceda.com/event/vi-concurso-de-tapas-maceda-2025/
LOCATION:Ourense
END:VEVENT
BEGIN:VEVENT
DTSTART;TZID=Europe/Helsinki:20250417T180000
DTEND;TZID=Europe/Helsinki:20250417T190000
DTSTAMP:20260419T155705
CREATED:20250413T205327Z
LAST-MODIFIED:20250413T205332Z
UID:1397-1744912800-1744916400@comercioenmaceda.com
SUMMARY:Xoves Santo
DESCRIPTION:A programación dos actos relixiosos para o Xoves Santo en Maceda- \nCelebración de Xoves Santo: “Cea do Señor” ás 18 h. na igrexa Nosa Señora das Neves de Maceda
URL:https://comercioenmaceda.com/event/xoves-santo/
LOCATION:igrexa Nosa Señora das Neves\, Praza das toldas\, Maceda\, Ourense\, 32700\, Spain
END:VEVENT
BEGIN:VEVENT
DTSTART;TZID=Europe/Helsinki:20250417T200000
DTEND;TZID=Europe/Helsinki:20250417T223000
DTSTAMP:20260419T155705
CREATED:20250408T213846Z
LAST-MODIFIED:20250408T213846Z
UID:1387-1744920000-1744929000@comercioenmaceda.com
SUMMARY:VI Concurso de Tapas Maceda 2025
DESCRIPTION:Entre o día 16 e 20 de abril de 2025 en horario de 20 a 22:30h.\, celébrase en Maceda a VI edición do concurso de tapas organizado polo Concello de Maceda e pola Asociación de Comerciantes e Empresarios de Maceda\, coa finalidade de promover o movemento e a participación tanto de empresarios como de clientes asiduos aos establecementos de Maceda. \nO prezo da tapa será de 3€ e participan: A Cervexería\, A Fenda\, A Tapa\, Bar A Sala\, Bar A Teixeira\, Bar Lúa\, Casa Rosa\, O Mioco\, Porta Sacra e Tapería Castillo.
URL:https://comercioenmaceda.com/event/vi-concurso-de-tapas-maceda-2025-2/
LOCATION:Ourense
END:VEVENT
BEGIN:VEVENT
DTSTART;TZID=Europe/Helsinki:20250417T220000
DTEND;TZID=Europe/Helsinki:20250417T230000
DTSTAMP:20260419T155705
CREATED:20250413T205511Z
LAST-MODIFIED:20250413T205515Z
UID:1401-1744927200-1744930800@comercioenmaceda.com
SUMMARY:Xoves Santo
DESCRIPTION:A programación dos actos relixiosos para o Xoves Santo en Maceda- \nCelebración de Xoves Santo: “Hora Santa” ás 22 h. na igrexa Nosa Señora das Neves de Maceda
URL:https://comercioenmaceda.com/event/xoves-santo-2/
LOCATION:igrexa Nosa Señora das Neves\, Praza das toldas\, Maceda\, Ourense\, 32700\, Spain
END:VEVENT
BEGIN:VEVENT
DTSTART;TZID=Europe/Helsinki:20250418T120000
DTEND;TZID=Europe/Helsinki:20250418T130000
DTSTAMP:20260419T155705
CREATED:20250413T205607Z
LAST-MODIFIED:20250413T205607Z
UID:1403-1744977600-1744981200@comercioenmaceda.com
SUMMARY:Vernes Santo
DESCRIPTION:A programación dos actos relixiosos para o Vernes Santo en Maceda- \nCelebración de Vernes Santo: “Vía Crucis” ás 12 h. na igrexa Nosa Señora das Neves de Maceda
URL:https://comercioenmaceda.com/event/vernes-santo/
LOCATION:igrexa Nosa Señora das Neves\, Praza das toldas\, Maceda\, Ourense\, 32700\, Spain
END:VEVENT
BEGIN:VEVENT
DTSTART;TZID=Europe/Helsinki:20250418T180000
DTEND;TZID=Europe/Helsinki:20250418T190000
DTSTAMP:20260419T155705
CREATED:20250413T205655Z
LAST-MODIFIED:20250413T205659Z
UID:1405-1744999200-1745002800@comercioenmaceda.com
SUMMARY:Vernes Santo
DESCRIPTION:A programación dos actos relixiosos para o Vernes Santo en Maceda- \nCelebración de Vernes Santo: “Morte de Xesús” ás 18 h. na igrexa Nosa Señora das Neves de Maceda
URL:https://comercioenmaceda.com/event/vernes-santo-2/
LOCATION:igrexa Nosa Señora das Neves\, Praza das toldas\, Maceda\, Ourense\, 32700\, Spain
END:VEVENT
BEGIN:VEVENT
DTSTART;TZID=Europe/Helsinki:20250418T200000
DTEND;TZID=Europe/Helsinki:20250418T223000
DTSTAMP:20260419T155705
CREATED:20250408T213956Z
LAST-MODIFIED:20250408T213956Z
UID:1389-1745006400-1745015400@comercioenmaceda.com
SUMMARY:VI Concurso de Tapas Maceda 2025
DESCRIPTION:Entre o día 16 e 20 de abril de 2025 en horario de 20 a 22:30h.\, celébrase en Maceda a VI edición do concurso de tapas organizado polo Concello de Maceda e pola Asociación de Comerciantes e Empresarios de Maceda\, coa finalidade de promover o movemento e a participación tanto de empresarios como de clientes asiduos aos establecementos de Maceda. \n  \nO prezo da tapa será de 3€ e participan: A Cervexería\, A Fenda\, A Tapa\, Bar A Sala\, Bar A Teixeira\, Bar Lúa\, Casa Rosa\, O Mioco\, Porta Sacra e Tapería Castillo.
URL:https://comercioenmaceda.com/event/vi-concurso-de-tapas-maceda-2025-3/
LOCATION:Ourense
END:VEVENT
BEGIN:VEVENT
DTSTART;TZID=Europe/Helsinki:20250418T220000
DTEND;TZID=Europe/Helsinki:20250418T230000
DTSTAMP:20260419T155705
CREATED:20250413T205753Z
LAST-MODIFIED:20250413T205753Z
UID:1407-1745013600-1745017200@comercioenmaceda.com
SUMMARY:Vernes Santo
DESCRIPTION:A programación dos actos relixiosos para o Vernes Santo en Maceda- \nCelebración de Vernes Santo: “Procesión dos Caladiños” ás 22 h. na igrexa Nosa Señora das Neves de Maceda
URL:https://comercioenmaceda.com/event/vernes-santo-3/
LOCATION:igrexa Nosa Señora das Neves\, Praza das toldas\, Maceda\, Ourense\, 32700\, Spain
END:VEVENT
BEGIN:VEVENT
DTSTART;TZID=Europe/Helsinki:20250419T080000
DTEND;TZID=Europe/Helsinki:20250419T153000
DTSTAMP:20260419T155705
CREATED:20250312T205924Z
LAST-MODIFIED:20250312T205928Z
UID:1346-1745049600-1745076600@comercioenmaceda.com
SUMMARY:Feira en Maceda
DESCRIPTION:Feira que se celebra os días 4 e 20 de cada mes (cando o día 20 é domingo vai ao sábado 19)\, en todo o comercio de Maceda e venda ambulante sobre todo na zoa do Toural. \nVenda de produtos destacados que podemos atopar nela\, ademais os postos do tradicional polbo a feira.
URL:https://comercioenmaceda.com/event/feira-en-maceda-11/
LOCATION:Ourense
END:VEVENT
BEGIN:VEVENT
DTSTART;TZID=Europe/Helsinki:20250419T200000
DTEND;TZID=Europe/Helsinki:20250419T210000
DTSTAMP:20260419T155705
CREATED:20250413T205901Z
LAST-MODIFIED:20250413T205901Z
UID:1409-1745092800-1745096400@comercioenmaceda.com
SUMMARY:Sábado Santo
DESCRIPTION:A programación dos actos relixiosos para o Sábado Santo en Maceda- \nCelebración de Sábado Santo: “Vixilia Pascual” ás 20 h. na igrexa Nosa Señora das Neves de Maceda
URL:https://comercioenmaceda.com/event/sabado-santo/
LOCATION:igrexa Nosa Señora das Neves\, Praza das toldas\, Maceda\, Ourense\, 32700\, Spain
END:VEVENT
BEGIN:VEVENT
DTSTART;TZID=Europe/Helsinki:20250419T200000
DTEND;TZID=Europe/Helsinki:20250419T223000
DTSTAMP:20260419T155705
CREATED:20250408T214112Z
LAST-MODIFIED:20250408T214115Z
UID:1391-1745092800-1745101800@comercioenmaceda.com
SUMMARY:VI Concurso de Tapas Maceda 2025
DESCRIPTION:Entre o día 16 e 20 de abril de 2025 en horario de 20 a 22:30h.\, celébrase en Maceda a VI edición do concurso de tapas organizado polo Concello de Maceda e pola Asociación de Comerciantes e Empresarios de Maceda\, coa finalidade de promover o movemento e a participación tanto de empresarios como de clientes asiduos aos establecementos de Maceda. \n  \nO prezo da tapa será de 3€ e participan: A Cervexería\, A Fenda\, A Tapa\, Bar A Sala\, Bar A Teixeira\, Bar Lúa\, Casa Rosa\, O Mioco\, Porta Sacra e Tapería Castillo.
URL:https://comercioenmaceda.com/event/vi-concurso-de-tapas-maceda-2025-4/
LOCATION:Ourense
END:VEVENT
BEGIN:VEVENT
DTSTART;TZID=Europe/Helsinki:20250420T200000
DTEND;TZID=Europe/Helsinki:20250420T223000
DTSTAMP:20260419T155705
CREATED:20250408T214232Z
LAST-MODIFIED:20250408T214232Z
UID:1393-1745179200-1745188200@comercioenmaceda.com
SUMMARY:VI Concurso de Tapas Maceda 2025
DESCRIPTION:Entre o día 16 e 20 de abril de 2025 en horario de 20 a 22:30h.\, celébrase en Maceda a VI edición do concurso de tapas organizado polo Concello de Maceda e pola Asociación de Comerciantes e Empresarios de Maceda\, coa finalidade de promover o movemento e a participación tanto de empresarios como de clientes asiduos aos establecementos de Maceda. \n  \nO prezo da tapa será de 3€ e participan: A Cervexería\, A Fenda\, A Tapa\, Bar A Sala\, Bar A Teixeira\, Bar Lúa\, Casa Rosa\, O Mioco\, Porta Sacra e Tapería Castillo.
URL:https://comercioenmaceda.com/event/vi-concurso-de-tapas-maceda-2025-5/
LOCATION:Ourense
END:VEVENT
BEGIN:VEVENT
DTSTART;TZID=Europe/Helsinki:20250426T110000
DTEND;TZID=Europe/Helsinki:20250426T140000
DTSTAMP:20260419T155705
CREATED:20250425T121644Z
LAST-MODIFIED:20250425T121644Z
UID:1418-1745665200-1745676000@comercioenmaceda.com
SUMMARY:Troco de Libros
DESCRIPTION:Para conmemorar o Día do Libro\, a Biblioteca de Maceda organiza o seu Mercado de Troco de Libros\, que terá lugar os días sábado 26 e domingo 27 de abril\, de 11:00 a 14:00 h\, na Praza Benigno Álvarez. \nSe xa tes vales\, tráeos e poderás trocalos por novos libros para seguir desfrutando da lectura. \nE se aínda non tes ningún vale\, estás a tempo!\nPodes conseguir os teus ata o 24 de abril na biblioteca\, entregando algún libro que xa leras e que queiras compartir con outras persoas lectoras. \nUnha oportunidade perfecta para renovar lecturas e celebrar xuntas e xuntos o pracer de ler! \nFELIZ DÍA DO LIBRO
URL:https://comercioenmaceda.com/event/troco-de-libros/
LOCATION:Ourense
END:VEVENT
BEGIN:VEVENT
DTSTART;TZID=Europe/Helsinki:20250427T110000
DTEND;TZID=Europe/Helsinki:20250427T140000
DTSTAMP:20260419T155705
CREATED:20250425T121752Z
LAST-MODIFIED:20250425T121838Z
UID:1421-1745751600-1745762400@comercioenmaceda.com
SUMMARY:Troco de Libros
DESCRIPTION:Para conmemorar o Día do Libro\, a Biblioteca de Maceda organiza o seu Mercado de Troco de Libros\, que terá lugar os días sábado 26 e domingo 27 de abril\, de 11:00 a 14:00 h\, na Praza Benigno Álvarez. \nSe xa tes vales\, tráeos e poderás trocalos por novos libros para seguir desfrutando da lectura. \nE se aínda non tes ningún vale\, estás a tempo!\nPodes conseguir os teus ata o 24 de abril na biblioteca\, entregando algún libro que xa leras e que queiras compartir con outras persoas lectoras. \nUnha oportunidade perfecta para renovar lecturas e celebrar xuntas e xuntos o pracer de ler! \nFELIZ DÍA DO LIBRO
URL:https://comercioenmaceda.com/event/troco-de-libros-2/
LOCATION:Ourense
END:VEVENT
END:VCALENDAR